BEGIN:VCALENDAR
VERSION:2.0
PRODID:-//Inner Clarity - ECPv5.0.2.1//NONSGML v1.0//EN
CALSCALE:GREGORIAN
METHOD:PUBLISH
X-WR-CALNAME:Inner Clarity
X-ORIGINAL-URL:https://innerclarity.com.au
X-WR-CALDESC:Events for Inner Clarity
BEGIN:VTIMEZONE
TZID:Australia/Sydney
BEGIN:STANDARD
TZOFFSETFROM:+1100
TZOFFSETTO:+1000
TZNAME:AEST
DTSTART:20200404T160000
END:STANDARD
BEGIN:DAYLIGHT
TZOFFSETFROM:+1000
TZOFFSETTO:+1100
TZNAME:AEDT
DTSTART:20201003T160000
END:DAYLIGHT
END:VTIMEZONE
BEGIN:VEVENT
DTSTART;TZID=Australia/Sydney:20200503T090000
DTEND;TZID=Australia/Sydney:20200503T113000
DTSTAMP:20200301T000504
CREATED:20180410T051159Z
LAST-MODIFIED:20200203T000719Z
UID:140-1588496400-1588505400@innerclarity.com.au
SUMMARY:Reflexology Practice Group
DESCRIPTION:Would you like to refresh\, revise or deepen you Reflexology skills? \nJoin the practice group to hone your skills and immediately implement these with friends\, family and/or clients.  \nBe trained by an experienced and gifted Reflexologist who has had 30 years in practice\, as you meet like minded others\, compare notes and extend your network. \n*Please bring your favourite note book and pen. \nAn sugar\, gluten and diary free\, vegan morning tea will be provided. \n
URL:https://innerclarity.com.au/event/event-2/
LOCATION:Inner Clarity\, 42 Thomson Street\, Essendon\, Victoria\, 3040\, Australia
ATTACH;FMTTYPE=image/jpeg:https://innerclarity.com.au/wp-content/uploads/2016/12/Inner-Clarity-208.jpg
END:VEVENT
END:VCALENDAR