BEGIN:VCALENDAR
VERSION:2.0
PRODID:-//Inner Clarity - ECPv5.0.2.1//NONSGML v1.0//EN
CALSCALE:GREGORIAN
METHOD:PUBLISH
X-WR-CALNAME:Inner Clarity
X-ORIGINAL-URL:https://innerclarity.com.au
X-WR-CALDESC:Events for Inner Clarity
BEGIN:VTIMEZONE
TZID:Australia/Sydney
BEGIN:STANDARD
TZOFFSETFROM:+1100
TZOFFSETTO:+1000
TZNAME:AEST
DTSTART:20200404T160000
END:STANDARD
BEGIN:DAYLIGHT
TZOFFSETFROM:+1000
TZOFFSETTO:+1100
TZNAME:AEDT
DTSTART:20201003T160000
END:DAYLIGHT
END:VTIMEZONE
BEGIN:VEVENT
DTSTART;TZID=Australia/Sydney:20200517T090000
DTEND;TZID=Australia/Sydney:20200517T120000
DTSTAMP:20200301T010125
CREATED:20180410T051314Z
LAST-MODIFIED:20200212T052102Z
UID:142-1589706000-1589716800@innerclarity.com.au
SUMMARY:Essential Oils for Relaxation and Sleep
DESCRIPTION: \nLearn practical tools for relaxation and a better night’s sleep. \nBe guided in creating your own bespoke\, natural\, essential oil-based vegan remedies (to the value of $105) to take home to deepen your awareness and self-care. \nAn aromatic mood-boosting gluten\, diary\, refined sugar free\, vegan morning tea will be provided. \nPlease bring your own notebook and pen. \n
URL:https://innerclarity.com.au/event/event-3/
LOCATION:Inner Clarity\, 42 Thomson Street\, Essendon\, Victoria\, 3040\, Australia
ATTACH;FMTTYPE=image/jpeg:https://innerclarity.com.au/wp-content/uploads/2018/04/WinterWorkshop-8.jpg
END:VEVENT
END:VCALENDAR